BEGIN:VCALENDAR
VERSION:2.0
PRODID:-//eventon.com NONSGML v1.0//EN
BEGIN:VEVENT
UID:69e86d8f8950a
DTSTAMP:20260422T014119
DTSTART:20210827T150000Z
DTEND:20210827T170000Z
LOCATION:
SUMMARY:Monthly Redundant Communications Drill
DESCRIPTION: Regional Communications Drills are conducted to test the ability of hospitals to communicate with their local jurisdiction and with each other in the event of phone and email failure. All hospitals that participate in the Hospital Preparedness Program are required to participate in at least one communications drill per quarter.[..]
END:VEVENT
END:VCALENDAR