BEGIN:VCALENDAR
VERSION:2.0
PRODID:-//eventon.com NONSGML v1.0//EN
BEGIN:VEVENT
UID:69e5826d485a9
DTSTAMP:20260419T203333
DTSTART:20220705T133000Z
DTEND:20220705T145000Z
LOCATION:Virtual 
SUMMARY:EMTF 2 Subcommittee
DESCRIPTION: EMTF 2 Subcommittee 8:30 A.M - 9:50 A.M Registration Link &nbsp;
END:VEVENT
END:VCALENDAR