BEGIN:VCALENDAR
VERSION:2.0
PRODID:-//eventon.com NONSGML v1.0//EN
BEGIN:VEVENT
UID:69eb310a4f6e3
DTSTAMP:20260424T035954
DTSTART:20230117T150000Z
DTEND:20230117T160000Z
LOCATION:Virtual 
SUMMARY:Mental Health Workgroup
DESCRIPTION: Mental Health Workgroup *Meeting Series Cancelled* As discussed in the last meeting on June 21st\,  this workgroup will now be collaborating within the current standing committees to focus on the specialized areas of the Mental Health Initiative. A final announcement will be given in the upcoming July Board of Directors[..]
END:VEVENT
END:VCALENDAR