BEGIN:VCALENDAR
VERSION:2.0
PRODID:-//eventon.com NONSGML v1.0//EN
BEGIN:VEVENT
UID:69e9ee855c6c8
DTSTAMP:20260423T050349
DTSTART:20220428T190000Z
DTEND:20220428T200000Z
LOCATION:
SUMMARY:Zone 5 Meeting
DESCRIPTION: ZONE 5 Meeting  *JULY 28\,  2022 - MEETING CANCELLED* Welcome to the Zone 5 meeting. All agencies and facilities in Collin County\,  Hunt County\,  and Rockwall County are invited to attend. This meeting is open to all Air and Ground EMS\,  Fire Departments\,  First Responders\,  Medical Facilities\,  Physician and Physician[..]
END:VEVENT
END:VCALENDAR