BEGIN:VCALENDAR
VERSION:2.0
PRODID:-//eventon.com NONSGML v1.0//EN
BEGIN:VEVENT
UID:69eb9da24854e
DTSTAMP:20260424T114314
DTSTART:20220531T050000Z
DTEND:20220604T045900Z
LOCATION:
SUMMARY:TDEM Conference
DESCRIPTION: TDEM Conference
END:VEVENT
END:VCALENDAR