BEGIN:VCALENDAR
VERSION:2.0
PRODID:-//eventon.com NONSGML v1.0//EN
BEGIN:VEVENT
UID:69e9eeb718a7c
DTSTAMP:20260423T050439
DTSTART:20230413T150000Z
DTEND:20230413T160000Z
LOCATION:
SUMMARY:Zone 4 Meeting
DESCRIPTION: Welcome! Please join us for the Zone 4 meeting on the fourth Tuesday of every month at 10:00 AM Register for the Zoom meeting
END:VEVENT
END:VCALENDAR