BEGIN:VCALENDAR
VERSION:2.0
PRODID:-//eventon.com NONSGML v1.0//EN
BEGIN:VEVENT
UID:69e9eead93b8d
DTSTAMP:20260423T050429
DTSTART:20230926T130000Z
DTEND:20230926T220000Z
LOCATION:Lake Granbury Medical Center 1310 Paluxy Road
SUMMARY:Hospital Patient Decontamination-Lake Granbury Medical Center
DESCRIPTION: Click “here” to register. This Patient Decontamination Training is designed to train hospital staff in theoretical and practical aspects of patient decontamination. This training is a one-day/8-hour class designed to train hospital staff how to protect themselves\,  patients\,  and their facility from Hazmat contamination. Training will take place at your[..]
END:VEVENT
END:VCALENDAR