BEGIN:VCALENDAR
VERSION:2.0
PRODID:-//eventon.com NONSGML v1.0//EN
BEGIN:VEVENT
UID:69e770a159fab
DTSTAMP:20260421T074209
DTSTART:20230929T130000Z
DTEND:20230929T220000Z
LOCATION:UT Southwestern Medical Center 5323 Harry Hines Blvd
SUMMARY:Hospital Patient Decontamination-UT Southwestern Medical Center
DESCRIPTION: Click “here” to register. This Patient Decontamination Training is designed to train hospital staff in theoretical and practical aspects of patient decontamination. This training is a one-day/8-hour class designed to train hospital staff how to protect themselves\,  patients\,  and their facility from Hazmat contamination. Training will take place at your[..]
END:VEVENT
END:VCALENDAR