BEGIN:VCALENDAR
VERSION:2.0
PRODID:-//eventon.com NONSGML v1.0//EN
BEGIN:VEVENT
UID:69e8be32c82c1
DTSTAMP:20260422T072522
DTSTART:20171205T153000Z
DTEND:20171205T163000Z
LOCATION:NCTTRAC Offices\,  Suite 100 600 Six Flags Dr.\,  Arlington\,  TX 76011
SUMMARY:Training & Exercise Workgroup
DESCRIPTION: Goal: Develop recommendations for training and training vendors that may fulfil contract deliverables and healthcare coalition medical surge needs\,  and which support disaster medical care delivery as well as assist in the development of regional discussion-based and operations-based exercises. 1st Tuesday of each month from 10:30 A.M. to 11:30 A.M.[..]
END:VEVENT
END:VCALENDAR