BEGIN:VCALENDAR
VERSION:2.0
PRODID:-//eventon.com NONSGML v1.0//EN
BEGIN:VEVENT
UID:69ec9765a0166
DTSTAMP:20260425T052853
DTSTART:20180809T183000Z
DTEND:20180809T200000Z
LOCATION:NCTTRAC Offices\,  Suite 150 600 Six Flags Dr.\,  Arlington\,  TX 76011
SUMMARY:Falls Prevention Coalition Work Group Meeting
DESCRIPTION: Start: 8/09/2018 1:30 PM End: 8/09/2018 3:00 PM NCTTRAC Conference Room 150 WebEx Information Click here to register for the WebEx Meeting Number:        497 575 926 Phone:                         1-877-668-4493 Meeting Password: (The password will be sent once you have registered for the meeting) SPECIAL ATTENTION: Please make certain[..]
END:VEVENT
END:VCALENDAR